BEGIN:VCALENDAR
VERSION:2.0
PRODID:-//Squarespace Inc/Squarespace 6//v6//EN
BEGIN:VEVENT
UID:53c4992de4b00460e3ae5a86@squarespace.com
DTSTAMP:20140715T034229Z
DTSTART:20140719T000000Z
DTEND:20140720T080000Z
SUMMARY:Meguiar’s MotorEx 2014
GEO:-37.776748;144.911088
LOCATION:Melbourne Showgrounds\, Epsom Rd\, Ascot Vale\, Australia
END:VEVENT
END:VCALENDAR
