BEGIN:VCALENDAR
VERSION:2.0
PRODID:-//Squarespace Inc/Squarespace 6//v6//EN
BEGIN:VEVENT
UID:52d45bb9e4b039b768a00d0b@squarespace.com
DTSTAMP:20140113T214306Z
DTSTART:20140118T200000Z
DTEND:20140119T010000Z
SUMMARY:Performance Swap Meet
GEO:-33.812923;150.865896
LOCATION:Sydney Dragway\, Ferrers Road\, Eastern Creek
END:VEVENT
END:VCALENDAR
