BEGIN:VCALENDAR
VERSION:2.0
PRODID:-//Squarespace Inc/Squarespace 6//v6//EN
BEGIN:VEVENT
UID:525cad32e4b04218d8ad84ae@squarespace.com
DTSTAMP:20131015T030353Z
DTSTART:20131024T220000Z
DTEND:20131027T060000Z
SUMMARY:Motorclassica 2013
GEO:-37.803357;144.973865
LOCATION:Royal Exhibition Building\, 9 Nicholson St\, Carlton\, Australia
END:VEVENT
END:VCALENDAR
